BEGIN:VCALENDAR
VERSION:2.0
PRODID:-//South City Foundation - ECPv6.6.4.2//NONSGML v1.0//EN
CALSCALE:GREGORIAN
METHOD:PUBLISH
X-ORIGINAL-URL:https://southcityfoundation.org
X-WR-CALDESC:Events for South City Foundation
REFRESH-INTERVAL;VALUE=DURATION:PT1H
X-Robots-Tag:noindex
X-PUBLISHED-TTL:PT1H
BEGIN:VTIMEZONE
TZID:America/New_York
BEGIN:DAYLIGHT
TZOFFSETFROM:-0500
TZOFFSETTO:-0400
TZNAME:EDT
DTSTART:20210314T070000
END:DAYLIGHT
BEGIN:STANDARD
TZOFFSETFROM:-0400
TZOFFSETTO:-0500
TZNAME:EST
DTSTART:20211107T060000
END:STANDARD
END:VTIMEZONE
BEGIN:VEVENT
DTSTART;TZID=America/New_York:20210506T083000
DTEND;TZID=America/New_York:20210506T093000
DTSTAMP:20260424T234423
CREATED:20210419T182257Z
LAST-MODIFIED:20210419T182257Z
UID:661-1620289800-1620293400@southcityfoundation.org
SUMMARY:SCF Early Learning Committee Meeting
DESCRIPTION:The South City Foundation’s Early Learning Committee meets virtually once a month on the 1st Thursday at 8:30am. \nContact Bailey at bailey@southcityfoundation.org to request the Zoom link.
URL:https://southcityfoundation.org/event/scf-early-learning-committee-meeting/
END:VEVENT
END:VCALENDAR