BEGIN:VCALENDAR
VERSION:2.0
PRODID:-//South City Foundation - ECPv6.6.4.2//NONSGML v1.0//EN
CALSCALE:GREGORIAN
METHOD:PUBLISH
X-ORIGINAL-URL:https://southcityfoundation.org
X-WR-CALDESC:Events for South City Foundation
REFRESH-INTERVAL;VALUE=DURATION:PT1H
X-Robots-Tag:noindex
X-PUBLISHED-TTL:PT1H
BEGIN:VTIMEZONE
TZID:America/New_York
BEGIN:DAYLIGHT
TZOFFSETFROM:-0500
TZOFFSETTO:-0400
TZNAME:EDT
DTSTART:20210314T070000
END:DAYLIGHT
BEGIN:STANDARD
TZOFFSETFROM:-0400
TZOFFSETTO:-0500
TZNAME:EST
DTSTART:20211107T060000
END:STANDARD
END:VTIMEZONE
BEGIN:VEVENT
DTSTART;TZID=America/New_York:20210506T083000
DTEND;TZID=America/New_York:20210506T093000
DTSTAMP:20260424T185152
CREATED:20210419T182257Z
LAST-MODIFIED:20210419T182257Z
UID:661-1620289800-1620293400@southcityfoundation.org
SUMMARY:SCF Early Learning Committee Meeting
DESCRIPTION:The South City Foundation’s Early Learning Committee meets virtually once a month on the 1st Thursday at 8:30am. \nContact Bailey at bailey@southcityfoundation.org to request the Zoom link.
URL:https://southcityfoundation.org/event/scf-early-learning-committee-meeting/
END:VEVENT
BEGIN:VEVENT
DTSTART;TZID=America/New_York:20210511T113000
DTEND;TZID=America/New_York:20210511T130000
DTSTAMP:20260424T185152
CREATED:20210419T181221Z
LAST-MODIFIED:20210419T181221Z
UID:627-1620732600-1620738000@southcityfoundation.org
SUMMARY:SCF Board Meeting
DESCRIPTION:The South City Foundation’s working Board of Directors meets virtually every other month on the 2nd Tuesday at 11:30am to discuss SCF affairs\, events\, and initiatives. \nContact Bailey at bailey@southcityfoundation.org to request the Zoom link. \n  \n 
URL:https://southcityfoundation.org/event/scf-board-meeting/
END:VEVENT
BEGIN:VEVENT
DTSTART;TZID=America/New_York:20211117T123000
DTEND;TZID=America/New_York:20211117T133000
DTSTAMP:20260424T185152
CREATED:20210419T182015Z
LAST-MODIFIED:20211021T135422Z
UID:648-1637152200-1637155800@southcityfoundation.org
SUMMARY:SCF Health & Wellness Committee Meeting
DESCRIPTION:The South City Foundation’s Health & Wellness Committee meets virtually once a month on the 3rd Wednesday at 12:30pm. \nContact Bailey at bailey@southcityfoundation.org to request the Zoom link.
URL:https://southcityfoundation.org/event/scf-health-wellness-committee-meeting/
END:VEVENT
END:VCALENDAR