BEGIN:VCALENDAR
VERSION:2.0
PRODID:-//South City Foundation - ECPv6.6.4.2//NONSGML v1.0//EN
CALSCALE:GREGORIAN
METHOD:PUBLISH
X-WR-CALNAME:South City Foundation
X-ORIGINAL-URL:https://southcityfoundation.org
X-WR-CALDESC:Events for South City Foundation
REFRESH-INTERVAL;VALUE=DURATION:PT1H
X-Robots-Tag:noindex
X-PUBLISHED-TTL:PT1H
BEGIN:VTIMEZONE
TZID:America/New_York
BEGIN:DAYLIGHT
TZOFFSETFROM:-0500
TZOFFSETTO:-0400
TZNAME:EDT
DTSTART:20210314T070000
END:DAYLIGHT
BEGIN:STANDARD
TZOFFSETFROM:-0400
TZOFFSETTO:-0500
TZNAME:EST
DTSTART:20211107T060000
END:STANDARD
END:VTIMEZONE
BEGIN:VEVENT
DTSTART;TZID=America/New_York:20211030T163000
DTEND;TZID=America/New_York:20211030T193000
DTSTAMP:20260424T203306
CREATED:20211021T144427Z
LAST-MODIFIED:20211026T171312Z
UID:829-1635611400-1635622200@southcityfoundation.org
SUMMARY:Indianhead Lehigh Acres Halloween Party
DESCRIPTION:Optimist Park\n1800 E Indianhead Drive #1806\, Tallahassee\, FL 32301
URL:https://southcityfoundation.org/event/indianhead-lehigh-acres-halloween-party/
LOCATION:Optimist Park\, 1800 Indianhead Drive #1806\, Tallahassee\, FL\, 32301
CATEGORIES:Indianhead Lehigh Acres
END:VEVENT
END:VCALENDAR