BEGIN:VCALENDAR
VERSION:2.0
PRODID:-//South City Foundation - ECPv6.6.4.2//NONSGML v1.0//EN
CALSCALE:GREGORIAN
METHOD:PUBLISH
X-ORIGINAL-URL:https://southcityfoundation.org
X-WR-CALDESC:Events for South City Foundation
REFRESH-INTERVAL;VALUE=DURATION:PT1H
X-Robots-Tag:noindex
X-PUBLISHED-TTL:PT1H
BEGIN:VTIMEZONE
TZID:America/New_York
BEGIN:DAYLIGHT
TZOFFSETFROM:-0500
TZOFFSETTO:-0400
TZNAME:EDT
DTSTART:20210314T070000
END:DAYLIGHT
BEGIN:STANDARD
TZOFFSETFROM:-0400
TZOFFSETTO:-0500
TZNAME:EST
DTSTART:20211107T060000
END:STANDARD
END:VTIMEZONE
BEGIN:VEVENT
DTSTART;TZID=America/New_York:20211023T100000
DTEND;TZID=America/New_York:20211023T120000
DTSTAMP:20260424T221232
CREATED:20211021T134422Z
LAST-MODIFIED:20211021T135115Z
UID:811-1634983200-1634990400@southcityfoundation.org
SUMMARY:Woodland Drives Fall Beautification Day
DESCRIPTION:The Woodland Drives Neighborhood Association Board of Directors is hosting a fall Beautification Day Saturday\, October 23. The intent is to beautify certain common properties within Woodland Drives. \nMeet at the triangle located at the intersection of Santa Rosa Drive and Circle Drive at 10:00 a.m. Volunteers will be dispersed to three locations. Families and children are welcome to attend. \nThe proposed activities per site include:\nLimbo Lane Triangle: weeding\, pruning and trimming\nSanta Rosa and Circle Drive Triangle: mowing\, twig collection\, pruning and spreading pine straw\nSeminole Drive and Lafayette St. entrance: trash and twig collection\, mowing\, weeding\, pruning and spreading pine straw \nPlease bring water\, gloves and hand clippers. Protective clothing is recommended. Master gardeners or those with similar experience are encouraged to attend. \nQuestions about this activity should be emailed to gangreen57@comcast.net.
URL:https://southcityfoundation.org/event/woodland-drives-fall-beautification-day/
CATEGORIES:Woodland Drives
END:VEVENT
END:VCALENDAR